BEGIN:VCALENDAR
VERSION:2.0
PRODID:-//MRC Jacobus Perg - ECPv6.15.20//NONSGML v1.0//EN
CALSCALE:GREGORIAN
METHOD:PUBLISH
X-ORIGINAL-URL:https://mrcjacobusperg.com
X-WR-CALDESC:Veranstaltungen für MRC Jacobus Perg
REFRESH-INTERVAL;VALUE=DURATION:PT1H
X-Robots-Tag:noindex
X-PUBLISHED-TTL:PT1H
BEGIN:VTIMEZONE
TZID:Europe/Berlin
BEGIN:DAYLIGHT
TZOFFSETFROM:+0100
TZOFFSETTO:+0200
TZNAME:CEST
DTSTART:20250330T010000
END:DAYLIGHT
BEGIN:STANDARD
TZOFFSETFROM:+0200
TZOFFSETTO:+0100
TZNAME:CET
DTSTART:20251026T010000
END:STANDARD
BEGIN:DAYLIGHT
TZOFFSETFROM:+0100
TZOFFSETTO:+0200
TZNAME:CEST
DTSTART:20260329T010000
END:DAYLIGHT
BEGIN:STANDARD
TZOFFSETFROM:+0200
TZOFFSETTO:+0100
TZNAME:CET
DTSTART:20261025T010000
END:STANDARD
BEGIN:DAYLIGHT
TZOFFSETFROM:+0100
TZOFFSETTO:+0200
TZNAME:CEST
DTSTART:20270328T010000
END:DAYLIGHT
BEGIN:STANDARD
TZOFFSETFROM:+0200
TZOFFSETTO:+0100
TZNAME:CET
DTSTART:20271031T010000
END:STANDARD
END:VTIMEZONE
BEGIN:VEVENT
DTSTART;TZID=Europe/Berlin:20261204T183000
DTEND;TZID=Europe/Berlin:20261204T223000
DTSTAMP:20260423T174606
CREATED:20251211T210321Z
LAST-MODIFIED:20251211T210331Z
UID:3156-1796409000-1796423400@mrcjacobusperg.com
SUMMARY:Clubabend GH-Kragl
DESCRIPTION:
URL:https://mrcjacobusperg.com/event/clubabend-gh-kragl-2/
END:VEVENT
BEGIN:VEVENT
DTSTART;TZID=Europe/Berlin:20261218T183000
DTEND;TZID=Europe/Berlin:20261218T233000
DTSTAMP:20260423T174606
CREATED:20251211T210525Z
LAST-MODIFIED:20251211T210537Z
UID:3158-1797618600-1797636600@mrcjacobusperg.com
SUMMARY:Weihnachts-Clubabend GH-Südstadtwirt
DESCRIPTION:
URL:https://mrcjacobusperg.com/event/weihnachts-clubabend-gh-suedstadtwirt-2/
END:VEVENT
BEGIN:VEVENT
DTSTART;TZID=Europe/Berlin:20261231T101500
DTEND;TZID=Europe/Berlin:20261231T180000
DTSTAMP:20260423T174606
CREATED:20251211T210654Z
LAST-MODIFIED:20251211T210701Z
UID:3160-1798712100-1798740000@mrcjacobusperg.com
SUMMARY:Silvesterfrühschoppen GH-Südstadtwirt
DESCRIPTION:
URL:https://mrcjacobusperg.com/event/silvesterfruehschoppen-gh-suedstadtwirt/
END:VEVENT
END:VCALENDAR