BEGIN:VCALENDAR
VERSION:2.0
PRODID:-//MRC Jacobus Perg - ECPv6.15.20//NONSGML v1.0//EN
CALSCALE:GREGORIAN
METHOD:PUBLISH
X-WR-CALNAME:MRC Jacobus Perg
X-ORIGINAL-URL:https://mrcjacobusperg.com
X-WR-CALDESC:Veranstaltungen für MRC Jacobus Perg
REFRESH-INTERVAL;VALUE=DURATION:PT1H
X-Robots-Tag:noindex
X-PUBLISHED-TTL:PT1H
BEGIN:VTIMEZONE
TZID:Europe/Berlin
BEGIN:DAYLIGHT
TZOFFSETFROM:+0100
TZOFFSETTO:+0200
TZNAME:CEST
DTSTART:20250330T010000
END:DAYLIGHT
BEGIN:STANDARD
TZOFFSETFROM:+0200
TZOFFSETTO:+0100
TZNAME:CET
DTSTART:20251026T010000
END:STANDARD
BEGIN:DAYLIGHT
TZOFFSETFROM:+0100
TZOFFSETTO:+0200
TZNAME:CEST
DTSTART:20260329T010000
END:DAYLIGHT
BEGIN:STANDARD
TZOFFSETFROM:+0200
TZOFFSETTO:+0100
TZNAME:CET
DTSTART:20261025T010000
END:STANDARD
BEGIN:DAYLIGHT
TZOFFSETFROM:+0100
TZOFFSETTO:+0200
TZNAME:CEST
DTSTART:20270328T010000
END:DAYLIGHT
BEGIN:STANDARD
TZOFFSETFROM:+0200
TZOFFSETTO:+0100
TZNAME:CET
DTSTART:20271031T010000
END:STANDARD
END:VTIMEZONE
BEGIN:VEVENT
DTSTART;VALUE=DATE:20260501
DTEND;VALUE=DATE:20260502
DTSTAMP:20260423T144322
CREATED:20251211T193858Z
LAST-MODIFIED:20251225T193639Z
UID:3107-1777593600-1777679999@mrcjacobusperg.com
SUMMARY:02 Tagestour Traditionsausfahrt
DESCRIPTION:270 km \nTE: BKW
URL:https://mrcjacobusperg.com/event/03-tagestour/
END:VEVENT
BEGIN:VEVENT
DTSTART;VALUE=DATE:20260508
DTEND;VALUE=DATE:20260509
DTSTAMP:20260423T144322
CREATED:20260304T175210Z
LAST-MODIFIED:20260310T183750Z
UID:3391-1778198400-1778284799@mrcjacobusperg.com
SUMMARY:MRC-Jacobus präsentiert sich bei langer Einkaufsnacht
DESCRIPTION:Daher Clubabend in der Herrenstraße
URL:https://mrcjacobusperg.com/event/mrc-jacobus-praesentiert-sich-bei-langer-einkaufsnacht/
END:VEVENT
BEGIN:VEVENT
DTSTART;TZID=Europe/Berlin:20260513T183000
DTEND;TZID=Europe/Berlin:20260513T220000
DTSTAMP:20260423T144322
CREATED:20260412T083239Z
LAST-MODIFIED:20260412T083239Z
UID:3428-1778697000-1778709600@mrcjacobusperg.com
SUMMARY:Info-Abend Marokko-Tour
DESCRIPTION:Südstadtwirt
URL:https://mrcjacobusperg.com/event/info-abend-marokko-tour/
END:VEVENT
BEGIN:VEVENT
DTSTART;VALUE=DATE:20260517
DTEND;VALUE=DATE:20260518
DTSTAMP:20260423T144322
CREATED:20251211T192806Z
LAST-MODIFIED:20260124T181126Z
UID:3101-1778976000-1779062399@mrcjacobusperg.com
SUMMARY:03 Tagestour Große Erlauf
DESCRIPTION:10 km Offroad \n317 km \nTE: K 3 Perg
URL:https://mrcjacobusperg.com/event/02-tagestour-gross3-erlauf-10-km-offroad-te-gh-einhorn/
END:VEVENT
END:VCALENDAR