BEGIN:VCALENDAR
VERSION:2.0
PRODID:-//MRC Jacobus Perg - ECPv6.15.20//NONSGML v1.0//EN
CALSCALE:GREGORIAN
METHOD:PUBLISH
X-WR-CALNAME:MRC Jacobus Perg
X-ORIGINAL-URL:https://mrcjacobusperg.com
X-WR-CALDESC:Veranstaltungen für MRC Jacobus Perg
REFRESH-INTERVAL;VALUE=DURATION:PT1H
X-Robots-Tag:noindex
X-PUBLISHED-TTL:PT1H
BEGIN:VTIMEZONE
TZID:Europe/Berlin
BEGIN:DAYLIGHT
TZOFFSETFROM:+0100
TZOFFSETTO:+0200
TZNAME:CEST
DTSTART:20250330T010000
END:DAYLIGHT
BEGIN:STANDARD
TZOFFSETFROM:+0200
TZOFFSETTO:+0100
TZNAME:CET
DTSTART:20251026T010000
END:STANDARD
BEGIN:DAYLIGHT
TZOFFSETFROM:+0100
TZOFFSETTO:+0200
TZNAME:CEST
DTSTART:20260329T010000
END:DAYLIGHT
BEGIN:STANDARD
TZOFFSETFROM:+0200
TZOFFSETTO:+0100
TZNAME:CET
DTSTART:20261025T010000
END:STANDARD
BEGIN:DAYLIGHT
TZOFFSETFROM:+0100
TZOFFSETTO:+0200
TZNAME:CEST
DTSTART:20270328T010000
END:DAYLIGHT
BEGIN:STANDARD
TZOFFSETFROM:+0200
TZOFFSETTO:+0100
TZNAME:CET
DTSTART:20271031T010000
END:STANDARD
END:VTIMEZONE
BEGIN:VEVENT
DTSTART;TZID=Europe/Berlin:20260605T183000
DTEND;TZID=Europe/Berlin:20260605T223000
DTSTAMP:20260423T162136
CREATED:20251211T194755Z
LAST-MODIFIED:20260219T192640Z
UID:3113-1780684200-1780698600@mrcjacobusperg.com
SUMMARY:Clubabend Pizzeria Jodie
DESCRIPTION:
URL:https://mrcjacobusperg.com/event/clubabend-gh-suedstadtwirt-4/
END:VEVENT
BEGIN:VEVENT
DTSTART;VALUE=DATE:20260607
DTEND;VALUE=DATE:20260608
DTSTAMP:20260423T162136
CREATED:20251211T195401Z
LAST-MODIFIED:20251211T195604Z
UID:3116-1780790400-1780876799@mrcjacobusperg.com
SUMMARY:04 Tagestour 5 Seeen-Tour
DESCRIPTION:399 km \nTE: Venezia Schwertberg
URL:https://mrcjacobusperg.com/event/04-tagestour-5-seeen-tour/
END:VEVENT
BEGIN:VEVENT
DTSTART;VALUE=DATE:20260621
DTEND;VALUE=DATE:20260622
DTSTAMP:20260423T162136
CREATED:20251211T200111Z
LAST-MODIFIED:20260122T201557Z
UID:3121-1782000000-1782086399@mrcjacobusperg.com
SUMMARY:05 Tagestour Rätselrally
DESCRIPTION:  \nTE: Jodie Perg
URL:https://mrcjacobusperg.com/event/05-tagestour-braunau/
END:VEVENT
END:VCALENDAR